BEGIN:VCALENDAR
VERSION:2.0
PRODID:-//Cathexis Talent - ECPv6.15.20//NONSGML v1.0//EN
CALSCALE:GREGORIAN
METHOD:PUBLISH
X-ORIGINAL-URL:https://www.cathexistalent.com
X-WR-CALDESC:Events for Cathexis Talent
REFRESH-INTERVAL;VALUE=DURATION:PT1H
X-Robots-Tag:noindex
X-PUBLISHED-TTL:PT1H
BEGIN:VTIMEZONE
TZID:America/Denver
BEGIN:DAYLIGHT
TZOFFSETFROM:-0700
TZOFFSETTO:-0600
TZNAME:MDT
DTSTART:20240310T090000
END:DAYLIGHT
BEGIN:STANDARD
TZOFFSETFROM:-0600
TZOFFSETTO:-0700
TZNAME:MST
DTSTART:20241103T080000
END:STANDARD
BEGIN:DAYLIGHT
TZOFFSETFROM:-0700
TZOFFSETTO:-0600
TZNAME:MDT
DTSTART:20250309T090000
END:DAYLIGHT
BEGIN:STANDARD
TZOFFSETFROM:-0600
TZOFFSETTO:-0700
TZNAME:MST
DTSTART:20251102T080000
END:STANDARD
BEGIN:DAYLIGHT
TZOFFSETFROM:-0700
TZOFFSETTO:-0600
TZNAME:MDT
DTSTART:20260308T090000
END:DAYLIGHT
BEGIN:STANDARD
TZOFFSETFROM:-0600
TZOFFSETTO:-0700
TZNAME:MST
DTSTART:20261101T080000
END:STANDARD
BEGIN:DAYLIGHT
TZOFFSETFROM:-0700
TZOFFSETTO:-0600
TZNAME:MDT
DTSTART:20270314T090000
END:DAYLIGHT
BEGIN:STANDARD
TZOFFSETFROM:-0600
TZOFFSETTO:-0700
TZNAME:MST
DTSTART:20271107T080000
END:STANDARD
END:VTIMEZONE
BEGIN:VEVENT
DTSTART;VALUE=DATE:20250804
DTEND;VALUE=DATE:20260501
DTSTAMP:20260423T132128
CREATED:20250729T181544Z
LAST-MODIFIED:20250729T183621Z
UID:9949-1754265600-1777593599@www.cathexistalent.com
SUMMARY:Steel Magnolias (3/26-4/26\, Lone Tree) - Pay $3.5-$4k
DESCRIPTION:The Lone Tree Arts Center’s production of Steel Magnolias in Lone Tree\, Colorado! \nBoth local and non-local talent are encouraged to submit an audition! \nAEA audition sign ups will open on Monday\, August 4th.\nNon-AEA audition sign ups will open on Monday\, August 11th. \nIf you are local\, please sign up for an in-person audition.\nIf you are not local\, please plan to submit a video audition. \nThe Lone Tree Arts Center’s Artistic Director is Leigh Chandler. \nLORT D Contract\nWeekly Rate:\n$800.00 for Principals\n$700.00 for Understudies \nDirector: Marisa Hébert\nArtistic Director: Leigh Chandler\nCasting Director: Sylvia Gregory\, CSA\nAll above creative team members will be present at auditions and viewing audition videos. \nIn Person Initial Auditions: Monday August 25th\nIn Person Callbacks: Monday September 8th\nVideo general auditions are due by Friday August 22nd.\nVideo callbacks are due by Friday\, September 5th. \n5-Weeks Total\nFirst Rehearsal – 3/17/26\nTech Starts – 4/2/26\nInvited Rehearsals – 4/8/26\nOpening – 4/9/26\nClosing – 4/19/26 \nGeneral Audition Requirements: \nActors should prepare two (2) contrasting contemporary monologues no longer than 1 minute each\, at least one of which shows a Southern\, Louisiana-based dialect. One monologue should show dramatic range\, and one should show comedic skills. \nFor in-person and video auditions: \nIn person auditions are by appointment only\, sign up here:\nhttps://www.lonetreeartscenter.org/steelmagnoliasauditions \nUpload Headshots and Resumes here: https://www.lonetreeartscenter.org/steelmagnoliasauditions \nThe Lone Tree Arts Center is committed to diversity and maintains a policy of equal employment opportunity designed to promote a positive model of inclusion. As such\, we encourage performers of all ethnicities\, gender identities\, body types and sizes\, and ages\, as well as performers with disabilities\, to audition for appropriate roles. \nThe Lone Tree Arts Center creates a safe and equitable workplace through policies defined by the Equal Employment Opportunity Commission\, the Actors’ Equity Association\, and the City of Lone Tree. These policies provide a comprehensive framework for health and safety of all actors\, stage managers\, creative staff\, and designers employed by The Lone Tree Arts Center. \nInformation and Character Breakdown\nAll characters may be any ethnicity.\nAll characters have Southern dialects. \nTRUVY JONES – female-presenting\, 35-55 years old. Owner of the beauty shop. Feisty\, wisecracking\, and outspoken\, she offers hairspray with a hefty dose of advice. (Ability to style hair a plus.)\nANNELLE DUPUY-DESOTO – female-presenting\, 18-25 years old. Beauty shop assistant. Unsure and timid at the beginning of the play but becomes religious and outspoken. (Ability to style hair is a plus.)\nCLAIREE BELCHER – female-presenting\, 60-70 years old. Widow of former mayor. A Grande Dame who is elegant\, sophisticated\, intelligent\, and witty.\nSHELBY EATENTON-LATCHERIE – female-presenting\, 19-28 years old. Prettiest girl in town. A strong-willed and passionate\, she loves her mother and the other women but has a stubborn streak.\nM’LYNN EATENTON – female-presenting\, 40-60 years old. Shelby’s mother\, a socially prominent career woman who is practical\, intelligent\, and loving. Passionate and stubborn about her daughter.\nOUISER (pronounced “Weezer”) BOUDREAUX – female-presenting\, 55-70 years old. A wealthy curmudgeon\, acerbic but loveable – Southern to the core. \nCASTING NOTE FROM THE AUTHOR: The women in this play are witty\, intelligent\, and above all\, real characters. They in no way\, shape or form are meant to be portrayed as cartoons or caricatures.
URL:https://www.cathexistalent.com/event/steel-magnolias-3-26-4-26-lone-tree-pay-3-5-4k/
CATEGORIES:Community Calendar,Jobs
END:VEVENT
BEGIN:VEVENT
DTSTART;VALUE=DATE:20250919
DTEND;VALUE=DATE:20260701
DTSTAMP:20260423T132128
CREATED:20250903T190310Z
LAST-MODIFIED:20250903T190334Z
UID:10037-1758240000-1782863999@www.cathexistalent.com
SUMMARY:TOKENS - Feature Film (Sept 19th\, Littleton CO - Auditions & Callbacks -Provo UT) - Pay $SAG Scale
DESCRIPTION:TALENT WITHOUT AN UPDATED ACTING RESUME & REEL WILL NOT BE SUBMITED \n\nDISTRIBUTION: Festivals\, Theatrical\ngenre: WWII period drama\nSYNOPSIS: It’s not easy being a 10-year-old man of the house. But when George Lester’s father is reported missing during World War II\, he does his best. Faced with a dad in peril\, a sister in failing health\, a worried mom\, and new housemates he detests\, George turns to the power of magic and providence. Tokens is the story of George Lester’s painful\, exulting\, and ultimately mystical journey of change from childhood into new understandings and new worlds – both seen and unseen. \nAUDITION DATES:\nFRIDAY\, SEPTEMBER 19\, 2025\n1:00 PM – 6:00 PM\nSATURDAY\, SEPTEMBER 20\, 2025\n9:00 AM – 5:30 PM\n  \nAUDITION LOCATION\nINDUSTRIAL PARK\n7850 Shaffer Parkway\, Unit 908\nLittleton\, CO 80127\n  \nFollow directional signage \nFree parking is available on site\n\nCALLBACKS: Provo\, UT\, October 2025 \n[if needed]\n\nFILMING DATES:\nBetween 4/1/26 and 5/30/26\nExact dates TBD\nUNION/RATE: SAG/AFTRA MODERATE LOW; RATE: SCALE\nPROJECTED RATING: G/PG: \n                                    NO language\, nudity\, violence\nSHOOTING LOCATIONS: UTAH: Various locations in Salt Lake\, Utah\, Juab\, and Washington counties\n  \nLEAD ROLE:\nAuditioning Boys aged 7-10\n  \nGEORGE  [10] – approx. 21 shooting days\nCaucasian male\, prefer brown or auburn hair. Reflective\, curious\, not too talkative\, but not shy.  \nSkills required: adequate at roller skating [old quad skates\, not roller blades]\, able to ride a bike. \n  \n  \nSUPPORTING ROLE:\nAuditioning girls aged 9-11\n  \nRUTH  [11] – approx. 16 shooting days\nCaucasian female\, brown or auburn hair\, Energetic and playful but not childish. Smart and observant. Perhaps a bit more mature than 11\, but still definitely a kid. \nSkills required: able to ride a bike.
URL:https://www.cathexistalent.com/event/tokens-feature-film-sept-19th-littleton-co-auditions-callbacks-provo-ut-pay-sag-scale/
CATEGORIES:Community Calendar,Jobs
END:VEVENT
BEGIN:VEVENT
DTSTART;VALUE=DATE:20260101
DTEND;VALUE=DATE:20260502
DTSTAMP:20260423T132128
CREATED:20251109T040727Z
LAST-MODIFIED:20251109T040727Z
UID:10127-1767225600-1777679999@www.cathexistalent.com
SUMMARY:My Dear Protégé - Feature Film (March 2026\, CA) - Pay $400-786/day
DESCRIPTION:My Dear Protégé – Feature Film \nAn ambitious young actress\, Evie\, forms a creative and emotional bond with her mentor\, David\, a visionary but manipulative film director. As her fame eclipses his\, he subtly sabotages her\, unable to let go of control. \n  \nDate: March 2026 \nLocation: California \nSubmissions Due January 2026 -> Email or DM you updated IMDBpro link to Leenda@cathexistalent.com to be submitted. \n  \nRoles: \n\nWill (Lead) Male 25-35. Seeking an actor to play the role of Will McGrath (Boom Operator\, early 30s) — Loyal\, calm\, and quietly protective\, Will is the crew’s steady anchor amid the chaos. He looks out for everyone—especially Evie—with a quiet devotion that goes beyond duty. A listener in a world full of noise\, he absorbs more than he shares\, his quiet loyalty becoming both his strength and his burden as the lines between care\, control\, and complicity start to blur. Approximately 20 film days. LEAD MAIN SUPPORTING (Pay $784/day)\n\n \n\nKlaus (Supporting) Male 25-35. Seeking an actor to play the role of Klaus Wilder (Gaffer\, later 20s–30s) — Brilliant\, eccentric\, and impossible to rattle\, Klaus is the kind of lighting genius who treats every setup like philosophy. His humor is bone-dry\, his coffee always cold\, and his patience legendary. Beneath the sarcasm\, though\, is a deep loyalty to the crew—he protects them in his own way\, using wit to diffuse tension and precision to keep order when everything else is coming apart. Known for turning chaos into atmosphere\, Klaus lights the madness beautifully but never lets anyone forget how dangerous the fire really is. Approximately 15-20 film days. MAJOR SUPPORTING (Pay $480/day)\n\n  \n\nFinn (Supporting) Male 18-30yo. Seeking an actor to play the role of Finn Shaw (Camera Assistant\, 20s) — Eager\, kind\, and quietly ambitious\, Finn is the youngest member of the crew and wears his heart on his sleeve. He cares deeply for the people around him—always the first to help\, to listen\, to make someone laugh when things get tense. His optimism and warmth soften the edges of a hard set\, but that same empathy makes him vulnerable to the darker undercurrents he doesn’t yet understand. Loyal to a fault\, Finn wants everyone to be okay\, even when the camera keeps rolling on things that aren’t. Approximately 15-20 film days. MAJOR SUPPORTING (Pay $460/day)\n\n \n\nSam (Supporting) Male 26-42.Seeking an actor to play the role of Sam Rudd (Sound Mixer\, late 20s – early 40s) — Calm\, steady\, and quietly protective\, Sam is the backbone of the sound department and one of the crew’s most trusted figures. He carries the same composed energy off set as he does on—measured\, dependable\, and always present. Protective by instinct\, especially toward Will\, Sam watches over the team with quiet vigilance. His loyalty runs deep\, and his calm steadiness becomes the anchor everyone leans on when the work\, or the people\, start to fracture. Approximately 15-20 film days. SUPPORTING (Pay $460/day)\n\n\n \n\nCameron (Supporting) Male 27-39 Seeking an actor to play the role of Cameron Briggs (Camera Operator\, 30s) — Focused\, grounded\, and quietly thoughtful\, Cameron sees the world in composition and light. He’s steady under pressure\, more comfortable behind the lens than in conversation\, but his silence carries weight—he notices what others miss. Loyal to his crew and meticulous in his craft\, Cameron works with quiet integrity\, often acting as the unspoken conscience of what the camera chooses to reveal. Though he rarely voices his opinions\, his empathy shows in how he frames people—with honesty\, patience\, and care. Approximately 15-20 film days. SUPPORTING (Pay $460/day)\n\n\n \n\nMiles (Supporting) Male 24-38.Seeking an actor to play the role of Miles Turner (First Assistant Director\, late 20s–30s) — Efficient\, composed\, and quietly authoritative\, Miles runs the set with steady precision and unwavering focus. He’s the one who keeps chaos in order\, guiding cast and crew through tension and exhaustion without losing his calm. The same steadiness follows him off set—measured\, loyal\, and grounded—but he’s not afraid to speak up when something crosses a line. Protective by nature and unshaken by ego\, Miles has earned the crew’s respect not just for his control\, but for his courage to call things out when no one else will. Approximately 15-20 film days. SUPPORTING (Pay $4560/day)\n\n  \n\nJuliet (Supporting) Female 20-30. Seeking an actress to play the character of Juliet Ross (Makeup Artist\, 20s-30s) — Gentle\, perceptive\, and quietly intuitive\, Juliet has a gift for seeing what people try to hide—on their faces and in their hearts. She brings warmth and stillness to a restless set\, using small acts of care to hold others together when words won’t. Off set\, that same empathy makes her both a confidante and a witness; she senses the fractures long before they show. Loyal and protective\, especially of Evie\, Juliet understands that the real work isn’t just fixing what’s visible—it’s tending to what’s breaking underneath. Approximately 15-20 film days. SUPPORTING (Pay $460/day)\n\n  \n\nOlivia (Supporting) Female 20-32 Seeking an actress to play the character of Olivia Monroe (Script Supervisor\, 20s – early 30s) — Precise\, intelligent\, and quietly assertive\, Olivia keeps the production from unraveling one page at a time. She has a calm\, composed presence that commands respect without raising her voice\, her focus unwavering even as chaos swirls around her. Off set\, that same steadiness turns into quiet empathy—she listens\, remembers\, and sees patterns others miss. Loyal and deeply protective of the crew\, Olivia is the quiet backbone of continuity\, both in the script and in the fragile human rhythms that hold the production together. Approximately 10-20 film days. SUPPORTING (Pay $400/day)\n\n 
URL:https://www.cathexistalent.com/event/my-dear-protege-feature-film-march-2026-ca-pay-400-786-day/
CATEGORIES:Community Calendar,Jobs
END:VEVENT
BEGIN:VEVENT
DTSTART;VALUE=DATE:20260127
DTEND;VALUE=DATE:20260209
DTSTAMP:20260423T132128
CREATED:20260115T214932Z
LAST-MODIFIED:20260115T214932Z
UID:10194-1769472000-1770595199@www.cathexistalent.com
SUMMARY:Amazon Activewear Shoot (Denver\, Jan/Feb TBA) - Pay $240
DESCRIPTION:Project: Amazon listing videos for an outdoor activewear company featuring hiking\, nature\, and winter. Clothing will be 3 pairs of Women’s fleece-line winter pants.\n\n\nDate: January/Feb (One Full day) TBA\nLocation: Lake Dillon area or near Denver if we get snow. (cannot pay for travel)\n\nTalent:\n\nFemale\, Caucasian\, Mid-late 20s\, athletic\, minimal to no tattoos. Sizes – roughly 5’5″-5’7″\, size 27-28 waist (size S or M) for the clothing to fit properly\n\n\n\n\n\n\n\nNote – the clothing has been ordered already for a previous model so sizing is important\n\nMale\, Caucasian\, Mid-late 20s\, athletic\, minimal to no tattoos\, muscular. Sizes – roughly 5’8″-6’2″ + muscular physique
URL:https://www.cathexistalent.com/event/amazon-activewear-shoot-denver-jan-feb-tba-pay-240/
CATEGORIES:Community Calendar,Jobs
END:VEVENT
BEGIN:VEVENT
DTSTART;VALUE=DATE:20260208
DTEND;VALUE=DATE:20260216
DTSTAMP:20260423T132128
CREATED:20260115T213741Z
LAST-MODIFIED:20260115T213741Z
UID:10192-1770508800-1771199999@www.cathexistalent.com
SUMMARY:Shoe Commercial (Denver\, Feb TBA) - Pay $240-$400
DESCRIPTION:COMEDIC SPEC AD (DENVER)\n\n\nPROJECT: “Not Yet” (60 Second Shoe Spec Commercial)\n\n\nSHOOT DATES: Mid February \, 1 day\n\n\nLOCATION: Denver Area\n\n\n\n\n\nROLE: THE RUNNER\n\n\n\n\nMale / Black / Age 25-35\n\n\n\n\n\n\nVibe: Relatable\, expressive\, and physically fit for running.\n\n\n\n\n\n\nCharacter: A dedicated runner who just bought a fresh\, expensive pair of running shoes… but is too afraid to let the ol trusty pair he’s got on\, go. He treats them like a best friend and his new shoes like a fragile museum piece.\n\n\n\n\n\n\nSkills: Strong facial comedy and non-verbal acting. We need someone who can sell the emotional struggle between two pairs of shoes without saying a word.
URL:https://www.cathexistalent.com/event/shoe-commercial-denver-feb-tba-pay-240-400/
CATEGORIES:Community Calendar,Jobs
END:VEVENT
BEGIN:VEVENT
DTSTART;VALUE=DATE:20260220
DTEND;VALUE=DATE:20260221
DTSTAMP:20260423T132128
CREATED:20260123T210506Z
LAST-MODIFIED:20260123T210506Z
UID:10214-1771545600-1771631999@www.cathexistalent.com
SUMMARY:Legal Testimonials (2/20\, Denver) - Pay $500
DESCRIPTION:Shoot Date: Friday\, Feb 20\, 2026 (must be available entire day)\nLocation: Denver metro (interior) \nRate: $500 flat (non-union\, full buyout) \nTime: 8-hour day max (actors likely needed for only a few hours) \nUsage: Local broadcast (Memphis + surrounding areas) + social \nTalent: All inclusive 20-70yo \n  \nSELF-TAPE SPECS (total 1–2 min)\nDue: January 26\, 2026 by 5pm MT\nSlate (5–10s): Name\, city\, confirm non-union + availability Feb 20.\nRead: Two takes of the sample dialogue below.\nFrame/tech: Horizontal\, chest-up\, neutral bg\, soft light\, clear audio.\nFilename: Testimonial_FirstLast_Date.mp4\nUpload Video HERE \n*Optional Deliverables with self-tape: Headshot\, Resume\, Reel \nSample dialogue:\n“I got hurt at work and suddenly everything got complicated—forms\, calls\, the insurance back-and-forth. I didn’t know where to start.\nI called LAW. They explained everything in plain English and handled the paperwork and the tough calls so I could focus on healing.\nI’m really glad I picked up the phone—LAW is the way to go.” \nCallbacks: Via Zoom Jan 28th + 29th
URL:https://www.cathexistalent.com/event/legal-testimonials-2-20-denver-pay-500/
CATEGORIES:Community Calendar,Jobs
END:VEVENT
BEGIN:VEVENT
DTSTART;VALUE=DATE:20260221
DTEND;VALUE=DATE:20260222
DTSTAMP:20260423T132128
CREATED:20260123T211043Z
LAST-MODIFIED:20260123T211043Z
UID:10216-1771632000-1771718399@www.cathexistalent.com
SUMMARY:Running Spot (2/21\, Denver) - Pay $500
DESCRIPTION:Project: Law Firm “Clock” Spot\nShoot Date: Saturday\, Feb 21\, 2026\nLocation: Denver metro exterior (single location)\nRate: $500 flat (non-union\, full buyout) \nTalent: “Young Adult Lead” — man or woman (~late 20s–mid 30s) any race/ethnicity. \nExpressive\, great non-verbal acting and timing. The spot is mostly visual performance. \nUsage: Local broadcast (Memphis + surrounding areas) + social\nPhysical note: Light running/jogging on sidewalk; repeated walking beats; cold-weather exterior. \nSELF-TAPE SPECS (90sec total) \nDue: January 25\, 2026 by 5pm MT\nSlate (5–10s): Name\, city\, confirm non-union + availability Feb 21\, OK with light running in cold weather. \nFrame/tech: Horizontal\, chest-up for the line; wider from waist-up for the movement; neutral bg/light; clear audio.\nFilename: Clock_FirstLast_Date.mp4\nSubmit to: Upload HERE \n*Optional Deliverables with self-tape: Headshot\, Resume\, Reel \nPerformance clip (45–60s): \n\nBeat 1 (walk & notice): Step into frame\, glance up as if you keep spotting clocks; small shifts in pace.\nBeat 2 (pressure build): Quick breath\, check your phone\, sense of being late.\nBeat 3 (decision/relief): You stop\, take a breath\, calm resets. (We’re looking for clarity and control\, not big mimicry.)\n\nLine read (2 takes): \n“When help feels expensive\, time becomes the enemy.”\nTake 1: grounded\, conversational.\nTake 2: slightly quicker\, sharper \nCallbacks: Via Zoom Jan 28th + 29th
URL:https://www.cathexistalent.com/event/running-spot-2-21-denver-pay-500/
CATEGORIES:Community Calendar,Jobs
END:VEVENT
BEGIN:VEVENT
DTSTART;VALUE=DATE:20260222
DTEND;VALUE=DATE:20260223
DTSTAMP:20260423T132128
CREATED:20260119T204125Z
LAST-MODIFIED:20260119T204125Z
UID:10200-1771718400-1771804799@www.cathexistalent.com
SUMMARY:Web series extras (2/22\, Denver) - $100
DESCRIPTION:Date: 2/22/26 \nTime: 12pm*-6pm\, but the extras may be let go early if shots are done by 5pm. \nLocation: C3 Performance\, 6440 E Hampden Ave\, Denver CO 80222 \nTalent: 10 Extras \nC3 gym will be converted to a Punk rock club and shoot an episode of a web series “The Adventures of Monster Force”. 10 extras needed to dress in early 90s Punk outfits. No heavy makeup\, extreme hairstyles okay but not required. Examples: Distressed band tees\, ripped jeans or bondage pants\, leather jackets\, Dr Martens boots or similar\, studded belts\, spiked hair\, Mohawks\, fishnets. These extras are going to be audience members for a fake band playing while we film the episode. Duties will include cheering the band\, talking to each other\, and being backstage roadies partying. No specific dialogue. Food and beverages will be supplied.
URL:https://www.cathexistalent.com/event/web-series-extras-2-22-denver-100/
CATEGORIES:Community Calendar,Jobs
END:VEVENT
END:VCALENDAR